BEGIN:VCALENDAR
VERSION:2.0
PRODID:-//Tukios.com/
BEGIN:VEVENT
UID:476661e0-b1f9-4504-aef8-121895d783b7@obituaries.andersonfcs.com
DTSTAMP:20260420T231912Z
DTSTART:20260424T170000Z
DTEND:20260424T180000Z
SUMMARY:Burial
DESCRIPTION:
URL:https://obituaries.andersonfcs.com/obituaries/bruce-cheek
LOCATION:Belvidere Cemetery 1121 North Main Street  Belvidere IL 61008
GEO:42.2705304;-88.8473035
END:VEVENT
END:VCALENDAR