BEGIN:VCALENDAR
VERSION:2.0
PRODID:-//Tukios.com/
BEGIN:VEVENT
UID:cad8a491-8c0b-4d1f-a200-f0dcde46fb85@obituaries.andersonfcs.com
DTSTAMP:20260420T231610Z
DTSTART:20260424T160000Z
DTEND:20260424T170000Z
SUMMARY:Funeral Service
DESCRIPTION:
URL:https://obituaries.andersonfcs.com/obituaries/bruce-cheek
LOCATION:Faith Baptist Church 1637 7th Avenue  Belvidere IL 61008
GEO:42.2438679;-88.8496441
END:VEVENT
END:VCALENDAR