BEGIN:VCALENDAR
VERSION:2.0
PRODID:-//Tukios.com/
BEGIN:VEVENT
UID:b27ab898-fdf0-4683-b7e7-31dc7014427f@obituaries.andersonfcs.com
DTSTAMP:20260420T232346Z
DTSTART:20260424T150000Z
DTEND:20260424T160000Z
SUMMARY:Visitation
DESCRIPTION:
URL:https://obituaries.andersonfcs.com/obituaries/bruce-cheek
LOCATION:Faith Baptist Church 1637 7th Avenue  Belvidere IL 61008
GEO:42.2438679;-88.8496441
END:VEVENT
END:VCALENDAR